BEGIN:VCALENDAR
VERSION:2.0
PRODID:-//Long Island Food Council - ECPv6.15.20//NONSGML v1.0//EN
CALSCALE:GREGORIAN
METHOD:PUBLISH
X-WR-CALNAME:Long Island Food Council
X-ORIGINAL-URL:https://longislandfoodcouncil.com
X-WR-CALDESC:Events for Long Island Food Council
REFRESH-INTERVAL;VALUE=DURATION:PT1H
X-Robots-Tag:noindex
X-PUBLISHED-TTL:PT1H
BEGIN:VTIMEZONE
TZID:UTC
BEGIN:STANDARD
TZOFFSETFROM:+0000
TZOFFSETTO:+0000
TZNAME:UTC
DTSTART:20180101T000000
END:STANDARD
END:VTIMEZONE
BEGIN:VEVENT
DTSTART;TZID=UTC:20190206T083000
DTEND;TZID=UTC:20190206T100000
DTSTAMP:20260424T000019
CREATED:20190128T220559Z
LAST-MODIFIED:20190128T222514Z
UID:10000309-1549441800-1549447200@longislandfoodcouncil.com
SUMMARY:MTRC - Coffee & Connect
DESCRIPTION:Coffee & Connect\nWed. February 6\, 2019\n8:30am – 10am\nCEWIT\, Room 200\nJoin us for MTRC’s Monthly\nInformational Networking Breakfast for Manufacturers \nFebruary Highlight: \nSupport for Manufacturers in\nWorkforce Training \n\nLearn how to access training grants\nLearn about the Long Island Workforce Ecosystems\nUnderstand ways you can build a pipeline of workers for your business\n\nThis month we will highlight the opportunities for manufacturers involving workforce training and development. We will be discussing the grant opportunities and resources that MTRC and our program partners offer. Come meet representatives who are here to help grow your business. \nWho should attend?\nAll Long Island manufacturers* are welcome to attend this network meeting. Every month the meeting will have a different highlight\, showcasing a program partner or resource that MTRC can offer. We encourage companies and program partners to attend more than once. \nPlease email MTRC@stonybrook.edu with any questions.\nFree to attend\, but registration is required:\nREGISTER NOW \n*Company must be a valid manufacturer and be registered in Nassau or Suffolk county to qualify for MTRC grant funding.\nMTRC\, Long Island Regional NY-MEP Center\n1500 Stony Brook Rd\, Stony Brook\, NY 11794-6040\nwwww.stonybrook.edu/mtrc\nMTRC@stonybrook.edu\n631.216.7129
URL:https://longislandfoodcouncil.com/event/mtrc-coffee-connect-2/
LOCATION:MTRC\, Long Island Regional NY-MEP Center\, 1500 Stony Brook Rd\,\, Stony Brook\, NY\, 11794-6040\, United States
ORGANIZER;CN="":MAILTO:MTRC@stonybrook.edu
END:VEVENT
END:VCALENDAR