BEGIN:VCALENDAR
VERSION:2.0
PRODID:-//Long Island Food Council - ECPv6.15.20//NONSGML v1.0//EN
CALSCALE:GREGORIAN
METHOD:PUBLISH
X-WR-CALNAME:Long Island Food Council
X-ORIGINAL-URL:https://longislandfoodcouncil.com
X-WR-CALDESC:Events for Long Island Food Council
REFRESH-INTERVAL;VALUE=DURATION:PT1H
X-Robots-Tag:noindex
X-PUBLISHED-TTL:PT1H
BEGIN:VTIMEZONE
TZID:America/New_York
BEGIN:DAYLIGHT
TZOFFSETFROM:-0500
TZOFFSETTO:-0400
TZNAME:EDT
DTSTART:20220313T070000
END:DAYLIGHT
BEGIN:STANDARD
TZOFFSETFROM:-0400
TZOFFSETTO:-0500
TZNAME:EST
DTSTART:20221106T060000
END:STANDARD
BEGIN:DAYLIGHT
TZOFFSETFROM:-0500
TZOFFSETTO:-0400
TZNAME:EDT
DTSTART:20230312T070000
END:DAYLIGHT
BEGIN:STANDARD
TZOFFSETFROM:-0400
TZOFFSETTO:-0500
TZNAME:EST
DTSTART:20231105T060000
END:STANDARD
BEGIN:DAYLIGHT
TZOFFSETFROM:-0500
TZOFFSETTO:-0400
TZNAME:EDT
DTSTART:20240310T070000
END:DAYLIGHT
BEGIN:STANDARD
TZOFFSETFROM:-0400
TZOFFSETTO:-0500
TZNAME:EST
DTSTART:20241103T060000
END:STANDARD
END:VTIMEZONE
BEGIN:VTIMEZONE
TZID:UTC
BEGIN:STANDARD
TZOFFSETFROM:+0000
TZOFFSETTO:+0000
TZNAME:UTC
DTSTART:20180101T000000
END:STANDARD
END:VTIMEZONE
BEGIN:VEVENT
DTSTART;TZID=America/New_York:20230316T080000
DTEND;TZID=America/New_York:20230316T123000
DTSTAMP:20260419T102619
CREATED:20230210T163658Z
LAST-MODIFIED:20230307T172217Z
UID:10000533-1678953600-1678969800@longislandfoodcouncil.com
SUMMARY:Growth of the Urban Foodscape
DESCRIPTION:Register Now!Learn About SponsorshipApply to be an Exhibitor/ResourceDownload the PDF
URL:https://longislandfoodcouncil.com/event/growth-of-the-urban-foodscape/
LOCATION:Farmingdale State College Campus Ballroom\, 2350 Broadhollow Road\, Farmingdale\, NY\, 11735\, United States
END:VEVENT
BEGIN:VEVENT
DTSTART;TZID=UTC:20191115T103000
DTEND;TZID=UTC:20191115T140000
DTSTAMP:20260419T102619
CREATED:20191011T004441Z
LAST-MODIFIED:20191011T005543Z
UID:10000352-1573813800-1573826400@longislandfoodcouncil.com
SUMMARY:MWEB Expo
DESCRIPTION:MWBE\, who are small\, can connect with Primes to provide sub services and learn the process of what happens after certification.\n \nRegister Today!
URL:https://longislandfoodcouncil.com/event/mweb-expo/
LOCATION:Farmingdale State College Campus Ballroom\, 2350 Broadhollow Road\, Farmingdale\, NY\, 11735\, United States
END:VEVENT
END:VCALENDAR