BEGIN:VCALENDAR
VERSION:2.0
PRODID:-//Long Island Food Council - ECPv6.15.20//NONSGML v1.0//EN
CALSCALE:GREGORIAN
METHOD:PUBLISH
X-ORIGINAL-URL:https://longislandfoodcouncil.com
X-WR-CALDESC:Events for Long Island Food Council
REFRESH-INTERVAL;VALUE=DURATION:PT1H
X-Robots-Tag:noindex
X-PUBLISHED-TTL:PT1H
BEGIN:VTIMEZONE
TZID:America/New_York
BEGIN:DAYLIGHT
TZOFFSETFROM:-0500
TZOFFSETTO:-0400
TZNAME:EDT
DTSTART:20200308T070000
END:DAYLIGHT
BEGIN:STANDARD
TZOFFSETFROM:-0400
TZOFFSETTO:-0500
TZNAME:EST
DTSTART:20201101T060000
END:STANDARD
BEGIN:DAYLIGHT
TZOFFSETFROM:-0500
TZOFFSETTO:-0400
TZNAME:EDT
DTSTART:20210314T070000
END:DAYLIGHT
BEGIN:STANDARD
TZOFFSETFROM:-0400
TZOFFSETTO:-0500
TZNAME:EST
DTSTART:20211107T060000
END:STANDARD
BEGIN:DAYLIGHT
TZOFFSETFROM:-0500
TZOFFSETTO:-0400
TZNAME:EDT
DTSTART:20220313T070000
END:DAYLIGHT
BEGIN:STANDARD
TZOFFSETFROM:-0400
TZOFFSETTO:-0500
TZNAME:EST
DTSTART:20221106T060000
END:STANDARD
BEGIN:DAYLIGHT
TZOFFSETFROM:-0500
TZOFFSETTO:-0400
TZNAME:EDT
DTSTART:20230312T070000
END:DAYLIGHT
BEGIN:STANDARD
TZOFFSETFROM:-0400
TZOFFSETTO:-0500
TZNAME:EST
DTSTART:20231105T060000
END:STANDARD
BEGIN:DAYLIGHT
TZOFFSETFROM:-0500
TZOFFSETTO:-0400
TZNAME:EDT
DTSTART:20240310T070000
END:DAYLIGHT
BEGIN:STANDARD
TZOFFSETFROM:-0400
TZOFFSETTO:-0500
TZNAME:EST
DTSTART:20241103T060000
END:STANDARD
BEGIN:DAYLIGHT
TZOFFSETFROM:-0500
TZOFFSETTO:-0400
TZNAME:EDT
DTSTART:20250309T070000
END:DAYLIGHT
BEGIN:STANDARD
TZOFFSETFROM:-0400
TZOFFSETTO:-0500
TZNAME:EST
DTSTART:20251102T060000
END:STANDARD
END:VTIMEZONE
BEGIN:VEVENT
DTSTART;TZID=America/New_York:20240613T123000
DTEND;TZID=America/New_York:20240613T130000
DTSTAMP:20260419T101449
CREATED:20240604T134148Z
LAST-MODIFIED:20240604T134806Z
UID:10001314-1718281800-1718283600@longislandfoodcouncil.com
SUMMARY:Withum Webinar - Introduction to Microsoft Copilot
DESCRIPTION:Learn More and Register
URL:https://longislandfoodcouncil.com/event/withum-webinar-introduction-to-microsoft-copilot/
LOCATION:Webinar
ATTACH;FMTTYPE=image/jpeg:https://longislandfoodcouncil.com/wp-content/uploads/2024/06/Withum-webinar.jpg
END:VEVENT
BEGIN:VEVENT
DTSTART;TZID=America/New_York:20210324T150000
DTEND;TZID=America/New_York:20210324T160000
DTSTAMP:20260419T101449
CREATED:20210318T132853Z
LAST-MODIFIED:20210318T133818Z
UID:10000470-1616598000-1616601600@longislandfoodcouncil.com
SUMMARY:Restaurant Revitalization Fund - What you need to know
DESCRIPTION:Webinar Details\nWednesday\, March 24\n3:00 – 4:00 PM EST \nAfter a year of uncertainty and economic disruption\, the restaurant industry has won federal relief. On March 11 President Biden signed the American Rescue Plan into law which includes a $28.6 billion Restaurant Revitalization Fund (RRF) to assist struggling restaurants during the pandemic. The RFF impacts restaurant owners with 20 or fewer locations and will be administered by the Small Business Administration.\nTopics for discussion: \nWho is eligible for RFF?\nHow can the fund be used?\nNext steps and important considerations for restaurant owners \nPresenters: \nTerry Moncrief\, Partner\, CPA\, Team Leader\, Food and Beverage/Restaurants and Bars\nJeremias Ramos\, CPA \nRegister Today!
URL:https://longislandfoodcouncil.com/event/restaurant-revitalization-fund-what-you-need-to-know/
LOCATION:Webinar
END:VEVENT
END:VCALENDAR