BEGIN:VCALENDAR
VERSION:2.0
PRODID:-//Long Island Food Council - ECPv6.15.20//NONSGML v1.0//EN
CALSCALE:GREGORIAN
METHOD:PUBLISH
X-ORIGINAL-URL:https://longislandfoodcouncil.com
X-WR-CALDESC:Events for Long Island Food Council
REFRESH-INTERVAL;VALUE=DURATION:PT1H
X-Robots-Tag:noindex
X-PUBLISHED-TTL:PT1H
BEGIN:VTIMEZONE
TZID:America/New_York
BEGIN:DAYLIGHT
TZOFFSETFROM:-0500
TZOFFSETTO:-0400
TZNAME:EDT
DTSTART:20250309T070000
END:DAYLIGHT
BEGIN:STANDARD
TZOFFSETFROM:-0400
TZOFFSETTO:-0500
TZNAME:EST
DTSTART:20251102T060000
END:STANDARD
BEGIN:DAYLIGHT
TZOFFSETFROM:-0500
TZOFFSETTO:-0400
TZNAME:EDT
DTSTART:20260308T070000
END:DAYLIGHT
BEGIN:STANDARD
TZOFFSETFROM:-0400
TZOFFSETTO:-0500
TZNAME:EST
DTSTART:20261101T060000
END:STANDARD
BEGIN:DAYLIGHT
TZOFFSETFROM:-0500
TZOFFSETTO:-0400
TZNAME:EDT
DTSTART:20270314T070000
END:DAYLIGHT
BEGIN:STANDARD
TZOFFSETFROM:-0400
TZOFFSETTO:-0500
TZNAME:EST
DTSTART:20271107T060000
END:STANDARD
END:VTIMEZONE
BEGIN:VEVENT
DTSTART;TZID=America/New_York:20260320T090000
DTEND;TZID=America/New_York:20260320T110000
DTSTAMP:20260419T083100
CREATED:20260212T210547Z
LAST-MODIFIED:20260217T193223Z
UID:10001338-1773997200-1774004400@longislandfoodcouncil.com
SUMMARY:LIFC Round Table Meeting  Island Harvest
DESCRIPTION:Join Us for This Month’s Round Table Meeting\nHost: Randi Shubin Dresner\, President & CEO\nBreakfast Sponsor & Guest speaker: Marc Vital-Herne\, Assistant Vice President Property & Casualty\, USI\nTopic: Understanding Liability for Small Businesses\n\nCoffee Sponsor: Pintail Coffee\n \nFood Presenter: Jann S. Brent\, President\, Noms Bar None\, Inc.\n \nRegister Today!
URL:https://longislandfoodcouncil.com/event/lifc-round-table-meeting-island-harvest-2/
LOCATION:Island Harvest\, 126 Spagnoli Road\, Melville\, NY\, 11747\, United States
ATTACH;FMTTYPE=image/jpeg:https://longislandfoodcouncil.com/wp-content/uploads/2024/11/Island_Harvest_Logo_2022_WhiteLight760.jpg
END:VEVENT
END:VCALENDAR