BEGIN:VCALENDAR
VERSION:2.0
PRODID:-//Long Island Food Council - ECPv6.15.20//NONSGML v1.0//EN
CALSCALE:GREGORIAN
METHOD:PUBLISH
X-ORIGINAL-URL:https://longislandfoodcouncil.com
X-WR-CALDESC:Events for Long Island Food Council
REFRESH-INTERVAL;VALUE=DURATION:PT1H
X-Robots-Tag:noindex
X-PUBLISHED-TTL:PT1H
BEGIN:VTIMEZONE
TZID:UTC
BEGIN:STANDARD
TZOFFSETFROM:+0000
TZOFFSETTO:+0000
TZNAME:UTC
DTSTART:20190101T000000
END:STANDARD
END:VTIMEZONE
BEGIN:VEVENT
DTSTART;TZID=UTC:20200213T110000
DTEND;TZID=UTC:20200213T120000
DTSTAMP:20260421T084659
CREATED:20200205T034241Z
LAST-MODIFIED:20200205T034343Z
UID:10000377-1581591600-1581595200@longislandfoodcouncil.com
SUMMARY:FUZEHUB Webinar
DESCRIPTION:Calculating Your Cost of Goods Sold and Estimating Future Production Costs\nUpcoming Webinar – February 13\, 2020 – 11:00am EST\nMany start-up companies make the mistake of designing overly complex products that are expensive to manufacture and assemble at scale. This can make your price point too high\, costing you sales\, or erode your profit margins. This webinar will show you how to accurately calculate your total product cost and develop an intelligent pro-forma cost as you look to scale-up production. \nWhat You Will Learn:\nThe difference between fixed costs\, variable costs\, direct costs\, indirect costs\, and overhead.\nGain an understanding of Break-Even Point and Economies of Scale\, and how they can impact pricing and profit margin.\nThe importance of knowing your product cost before investing in manufacturing or launching at the wrong price point. \nRegister
URL:https://longislandfoodcouncil.com/event/fuzehub-webinar/
LOCATION:This is a Webinar Event
END:VEVENT
END:VCALENDAR