BEGIN:VCALENDAR
VERSION:2.0
PRODID:-//Long Island Food Council - ECPv6.15.20//NONSGML v1.0//EN
CALSCALE:GREGORIAN
METHOD:PUBLISH
X-WR-CALNAME:Long Island Food Council
X-ORIGINAL-URL:https://longislandfoodcouncil.com
X-WR-CALDESC:Events for Long Island Food Council
REFRESH-INTERVAL;VALUE=DURATION:PT1H
X-Robots-Tag:noindex
X-PUBLISHED-TTL:PT1H
BEGIN:VTIMEZONE
TZID:America/New_York
BEGIN:DAYLIGHT
TZOFFSETFROM:-0500
TZOFFSETTO:-0400
TZNAME:EDT
DTSTART:20220313T070000
END:DAYLIGHT
BEGIN:STANDARD
TZOFFSETFROM:-0400
TZOFFSETTO:-0500
TZNAME:EST
DTSTART:20221106T060000
END:STANDARD
BEGIN:DAYLIGHT
TZOFFSETFROM:-0500
TZOFFSETTO:-0400
TZNAME:EDT
DTSTART:20230312T070000
END:DAYLIGHT
BEGIN:STANDARD
TZOFFSETFROM:-0400
TZOFFSETTO:-0500
TZNAME:EST
DTSTART:20231105T060000
END:STANDARD
BEGIN:DAYLIGHT
TZOFFSETFROM:-0500
TZOFFSETTO:-0400
TZNAME:EDT
DTSTART:20240310T070000
END:DAYLIGHT
BEGIN:STANDARD
TZOFFSETFROM:-0400
TZOFFSETTO:-0500
TZNAME:EST
DTSTART:20241103T060000
END:STANDARD
END:VTIMEZONE
BEGIN:VEVENT
DTSTART;TZID=America/New_York:20231021T150000
DTEND;TZID=America/New_York:20231021T180000
DTSTAMP:20260420T112058
CREATED:20231018T181815Z
LAST-MODIFIED:20231018T181815Z
UID:10000922-1697900400-1697911200@longislandfoodcouncil.com
SUMMARY:Sparkling Pointe Local Oyster Showcase
DESCRIPTION:
URL:https://longislandfoodcouncil.com/event/sparkling-pointe-local-oyster-showcase/
LOCATION:Sparkling Pointe\, 39750 Country Road 48\, Southold\, NY\, 11971\, United States
ATTACH;FMTTYPE=image/jpeg:https://longislandfoodcouncil.com/wp-content/uploads/2023/10/Sparkling-Pointe-oyster-showcase.jpg
END:VEVENT
END:VCALENDAR